BEGIN:VCALENDAR
VERSION:2.0
PRODID:-//wp-events-plugin.com//7.2.3.1//EN
BEGIN:VEVENT
UID:179@ortsfeuerwehr-bantorf.de
DTSTART;TZID=Europe/Berlin:20260307T170000
DTEND;TZID=Europe/Berlin:20260307T200000
DTSTAMP:20260110T120101Z
URL:https://ortsfeuerwehr-bantorf.de/veranstaltungen/dienst-2/
SUMMARY:Dienst
DESCRIPTION:
CATEGORIES:Einsatzabteilung,Ortsfeuerwehr Bantorf
END:VEVENT
BEGIN:VTIMEZONE
TZID:Europe/Berlin
X-LIC-LOCATION:Europe/Berlin
BEGIN:STANDARD
DTSTART:20251026T020000
TZOFFSETFROM:+0200
TZOFFSETTO:+0100
TZNAME:CET
END:STANDARD
END:VTIMEZONE
END:VCALENDAR